BEGIN:VCALENDAR
VERSION:2.0
PRODID:-//Hunters Village/Tapestry BlockWatch - ECPv6.15.20//NONSGML v1.0//EN
CALSCALE:GREGORIAN
METHOD:PUBLISH
X-ORIGINAL-URL:https://hvtbw.org
X-WR-CALDESC:Events for Hunters Village/Tapestry BlockWatch
REFRESH-INTERVAL;VALUE=DURATION:PT1H
X-Robots-Tag:noindex
X-PUBLISHED-TTL:PT1H
BEGIN:VTIMEZONE
TZID:America/Phoenix
BEGIN:STANDARD
TZOFFSETFROM:-0700
TZOFFSETTO:-0700
TZNAME:MST
DTSTART:20250101T000000
END:STANDARD
END:VTIMEZONE
BEGIN:VEVENT
DTSTART;TZID=America/Phoenix:20260124T090000
DTEND;TZID=America/Phoenix:20260124T100000
DTSTAMP:20260423T151918
CREATED:20260107T215509Z
LAST-MODIFIED:20260116T210521Z
UID:1382-1769245200-1769248800@hvtbw.org
SUMMARY:1st BW Meeting 2026
DESCRIPTION:Our first BlockWatch meeting of 2026 has been moved to \nSaturday\, January 26\, 9:00 am – 10:0 AM MT. \nLocation: Bob & Patti’s house \n Address: \n	This content has been restricted to logged-in users only. Please log in to view this content.
URL:https://hvtbw.org/event/1st-bw-meeting-2026/
LOCATION:Bob & Patti\, 14009 N 47th Street\, Phoenix\, AZ\, 85032\, United States
CATEGORIES:BW Meeting
ATTACH;FMTTYPE=image/png:https://hvtbw.org/wp-content/uploads/2024/05/blockwatch-meeting.png
ORGANIZER;CN="Capt Mel Hoffman":MAILTO:puperkus@gmail.com
END:VEVENT
END:VCALENDAR