BEGIN:VCALENDAR
VERSION:2.0
PRODID:-//Hunters Village/Tapestry BlockWatch - ECPv6.15.20//NONSGML v1.0//EN
CALSCALE:GREGORIAN
METHOD:PUBLISH
X-WR-CALNAME:Hunters Village/Tapestry BlockWatch
X-ORIGINAL-URL:https://hvtbw.org
X-WR-CALDESC:Events for Hunters Village/Tapestry BlockWatch
REFRESH-INTERVAL;VALUE=DURATION:PT1H
X-Robots-Tag:noindex
X-PUBLISHED-TTL:PT1H
BEGIN:VTIMEZONE
TZID:America/Phoenix
BEGIN:STANDARD
TZOFFSETFROM:-0700
TZOFFSETTO:-0700
TZNAME:MST
DTSTART:20190101T000000
END:STANDARD
END:VTIMEZONE
BEGIN:VEVENT
DTSTART;TZID=America/Phoenix:20200825T183000
DTEND;TZID=America/Phoenix:20200825T203000
DTSTAMP:20260423T152420
CREATED:20200227T130136Z
LAST-MODIFIED:20200227T130136Z
UID:422-1598380200-1598387400@hvtbw.org
SUMMARY:PBWAB General Meeting - August
DESCRIPTION:PBWAB General Meeting. Topic: Active Shooter presentation
URL:https://hvtbw.org/event/pbwab-general-meeting-august/
LOCATION:Deer Valley Community Center\, 2001 W Wahalla Lane\, Phoenix\, AZ\, 85027\, United States
END:VEVENT
BEGIN:VEVENT
DTSTART;TZID=America/Phoenix:20200728T180000
DTEND;TZID=America/Phoenix:20200728T200000
DTSTAMP:20260423T152420
CREATED:20200227T125230Z
LAST-MODIFIED:20200715T031410Z
UID:412-1595959200-1595966400@hvtbw.org
SUMMARY:PBWAB General Meeting - July - CANCELED
DESCRIPTION:Until further notice\, all PBWAB General Meetings will be conducted Virtually.  (See the PBWAB Calendar for details).\n \nDue to the coronavirus\, no PBWAB General Meetings are scheduled for June and July 2020.
URL:https://hvtbw.org/event/pbwab-general-meeting-2/
LOCATION:CANCELED
END:VEVENT
BEGIN:VEVENT
DTSTART;TZID=America/Phoenix:20200606T090000
DTEND;TZID=America/Phoenix:20200606T100000
DTSTAMP:20260423T152420
CREATED:20200221T081620Z
LAST-MODIFIED:20200524T032907Z
UID:186-1591434000-1591437600@hvtbw.org
SUMMARY:Third BW Meeting 2020 - June 6 (100% Virtual)
DESCRIPTION:The May 9 Hunters Village – Tapestry BW meeting is postponed to June 6. \nThis will be a 100% virtual meeting (FreeConferenceCall app) via invitation only. Blockwatch members will receive an invitation from our BlockWatch Captain with the meeting link details and agenda. Participate via wifi (audio & video) using your computer\, tablet\, or smartphone; or via audio only (phone).
URL:https://hvtbw.org/event/third-bw-meeting-2020/
LOCATION:FCC app\, Online
ATTACH;FMTTYPE=image/jpeg:https://hvtbw.org/wp-content/uploads/2020/02/DSC_0120-1.jpg
ORGANIZER;CN="Capt Mel Hoffman":MAILTO:puperkus@gmail.com
END:VEVENT
BEGIN:VEVENT
DTSTART;TZID=America/Phoenix:20200526T183000
DTEND;TZID=America/Phoenix:20200526T203000
DTSTAMP:20260423T152420
CREATED:20200227T125022Z
LAST-MODIFIED:20200429T032800Z
UID:409-1590517800-1590525000@hvtbw.org
SUMMARY:PBWAB General Meeting - May - Canceled
DESCRIPTION:The PBWAB General Meeting scheduled for May 26 has been canceled.
URL:https://hvtbw.org/event/pbwab-general-meeting/
LOCATION:TBD
END:VEVENT
BEGIN:VEVENT
DTSTART;TZID=America/Phoenix:20200428T183000
DTEND;TZID=America/Phoenix:20200428T203000
DTSTAMP:20260423T152420
CREATED:20200227T124823Z
LAST-MODIFIED:20200429T032508Z
UID:406-1588098600-1588105800@hvtbw.org
SUMMARY:PBWAB General Meeting - April - Canceled
DESCRIPTION:The April 28\, 2020 PBWAB General meeting has been canceled. \nPBWAB general meeting. Topic: Cybersecurity
URL:https://hvtbw.org/event/pbwab-april-general-meeting/
LOCATION:Central Park Village\, 205 W Bell Rd\, Phoenix\, AZ\, 85023\, United States
END:VEVENT
BEGIN:VEVENT
DTSTART;TZID=America/Phoenix:20200324T183000
DTEND;TZID=America/Phoenix:20200324T203000
DTSTAMP:20260423T152420
CREATED:20200227T124527Z
LAST-MODIFIED:20200327T025937Z
UID:402-1585074600-1585081800@hvtbw.org
SUMMARY:PBWAB General Meeting - March - Canceled
DESCRIPTION:CANCELED \nPBWAB general meeting. Topic: Manistee Justice Court
URL:https://hvtbw.org/event/pbwab-march-general-meeting/
LOCATION:CollegeAmerica\, 9801 N Metro Pkwy E.\, Phoenix\, AZ\, 85051\, United States
END:VEVENT
BEGIN:VEVENT
DTSTART;TZID=America/Phoenix:20200314T090000
DTEND;TZID=America/Phoenix:20200314T100000
DTSTAMP:20260423T152420
CREATED:20200221T081433Z
LAST-MODIFIED:20200310T010041Z
UID:183-1584176400-1584180000@hvtbw.org
SUMMARY:Second BW Meeting 2020
DESCRIPTION:Location: 4625 E. Crocus\nAgenda: \n\nWelcome to the Hunters Village/Tapestry BW meeting\nThank you\, Rose & Larry\, for hosting this meeting.\nIntroduction of new members & guest speaker. Sgt. Blake has arranged for a speaker from the Community Response Team. The rep will discuss police interaction with various communities (religious\, political\, etc.) that arrange protests/rallies in Phoenix. These officers are the 1st responders. The officer will speak approximately 1/2 hour.\nThe next PNP training class is _______; contact: Detective Brian Kornegay at brian.kornegay@phoenix.gov or 602-256-4303\nNext PNP meeting is ______ at ________\nNext Phoenix BlockWatch Advisory Board meeting is _______ at ______. Topic: _______\nCandy updated the group on the BW Grant application.\nBob Mitchell (webmaster) demonstrated our brand-new Hunters Village Tapestry BW website. Some limited generic community content is viewable without logging in\, but a user login is required to access BW-specific content. Requests to join must be approved by the BlockWatch Captain to verify neighbor authenticity. A business card – size set of simple registration instructions is available from Mel Hoffman or Bob Mitchell.\nOpen discussions:\nCheck your Arizona Highways Calendar for our next BW meeting: May 9\, 2020\nAdjourn
URL:https://hvtbw.org/event/second-bw-meeting-2020/
LOCATION:Rose & Larry\, 4625 E. Crocus Drive\, Phoenix\, AZ\, 85032\, United States
ATTACH;FMTTYPE=image/jpeg:https://hvtbw.org/wp-content/uploads/2020/02/DSC_0120.jpg
ORGANIZER;CN="Capt Mel Hoffman":MAILTO:puperkus@gmail.com
END:VEVENT
BEGIN:VEVENT
DTSTART;TZID=America/Phoenix:20200225T183000
DTEND;TZID=America/Phoenix:20200225T203000
DTSTAMP:20260423T152420
CREATED:20200227T123810Z
LAST-MODIFIED:20200227T125615Z
UID:398-1582655400-1582662600@hvtbw.org
SUMMARY:PBWAB General Meeting - February
DESCRIPTION:PBWAB General Meeting. Topic: Drug Trafficking in Phoenix
URL:https://hvtbw.org/event/pbwab-february-2020-meeting/
LOCATION:Sunnyslope Community Center\, 802 East Vogel Avenue\, Phoenix\, AZ\, 85020\, United States
END:VEVENT
BEGIN:VEVENT
DTSTART;TZID=America/Phoenix:20200128T183000
DTEND;TZID=America/Phoenix:20200128T203000
DTSTAMP:20260423T152420
CREATED:20200227T125855Z
LAST-MODIFIED:20200227T125855Z
UID:419-1580236200-1580243400@hvtbw.org
SUMMARY:PBWAB General Meeting - January
DESCRIPTION:PBWAB General Meeting. Topic: Bias Crimes
URL:https://hvtbw.org/event/pbwab-general-meeting-january/
LOCATION:Washington Activity Center\, 2240 W Citrus Way\, Phoenix\, AZ\, 85015\, United States
END:VEVENT
BEGIN:VEVENT
DTSTART;TZID=America/Phoenix:20200111T083000
DTEND;TZID=America/Phoenix:20200111T093000
DTSTAMP:20260423T152420
CREATED:20200218T085824Z
LAST-MODIFIED:20200310T010554Z
UID:90-1578731400-1578735000@hvtbw.org
SUMMARY:First BW Meeting 2020
DESCRIPTION:Location: 4716 E. Sheena Drive \nAgenda: \n\nWelcome to Hunters Village/Tapestry BW meeting\nThank you Shawn & Alice for hosting this meeting.\nIntroduction of new members & guest speaker Tamara Barnett\, Deputy Co. Atty\nThe next PNP training class is ________ from 8-12noon -contact: Detective Brian Kornegay at brian.kornegay@phoenix.gov or 602-256-4303\nIf you are a PNP’r the January 21\, 2020  meeting is cancelled. Next PNP meeting is February 18\, 2020 @ Mtn View Precinct\, 6-8pm\nNext Phoenix BlockWatch Advisory Board meeting _______ @ _________\nTopic: PhxPD Bias Crimes Unit\nCandy updated the group on the BW Grant application.\nBob Mitchell (webmaster) is proposing a “soft Launch” (pilot) of our brand-new BW website in February 2020. Official launch in March after review of feedback and improvements from the soft launch trial. Bob will provide a demo at March BW meeting.\nCheck your Arizona Highways Calendar for our next BW meeting:  March 14\, 2020 at Rose & Larry’s home
URL:https://hvtbw.org/event/hvt-bw-meeting/
LOCATION:Shawn & Alice\, 4716 E. Sheena Drive\, Phoenix\, AZ\, 85032\, United States
ATTACH;FMTTYPE=image/jpeg:https://hvtbw.org/wp-content/uploads/2020/02/DSC_0120-1.jpg
ORGANIZER;CN="Capt Mel Hoffman":MAILTO:puperkus@gmail.com
END:VEVENT
END:VCALENDAR