BEGIN:VCALENDAR
VERSION:2.0
PRODID:-//Hunters Village/Tapestry BlockWatch - ECPv6.15.20//NONSGML v1.0//EN
CALSCALE:GREGORIAN
METHOD:PUBLISH
X-WR-CALNAME:Hunters Village/Tapestry BlockWatch
X-ORIGINAL-URL:https://hvtbw.org
X-WR-CALDESC:Events for Hunters Village/Tapestry BlockWatch
REFRESH-INTERVAL;VALUE=DURATION:PT1H
X-Robots-Tag:noindex
X-PUBLISHED-TTL:PT1H
BEGIN:VTIMEZONE
TZID:America/Phoenix
BEGIN:STANDARD
TZOFFSETFROM:-0700
TZOFFSETTO:-0700
TZNAME:MST
DTSTART:20210101T000000
END:STANDARD
END:VTIMEZONE
BEGIN:VEVENT
DTSTART;TZID=America/Phoenix:20220402T083000
DTEND;TZID=America/Phoenix:20220402T093000
DTSTAMP:20260423T171325
CREATED:20220309T184750Z
LAST-MODIFIED:20220309T191357Z
UID:817-1648888200-1648891800@hvtbw.org
SUMMARY:Special BW Meeting - PV Mall Development
DESCRIPTION:A representative of RED will be on hand to discuss development plans for the old PV Mall site. \nSaturday\, April 2\, 8:30am \nThis meeting will be outdoors\, in-person. \nThis meeting is for HVT BlockWatch members only!
URL:https://hvtbw.org/event/special-bw-meeting-pv-mall-development/
LOCATION:Candy & Doug Dugdahl\, [um_loggedin] 4634 E. Redfield [/um_loggedin]\, Phoenix\, AZ\, 85032\, United States
CATEGORIES:PV Mall Site Development
END:VEVENT
END:VCALENDAR