BEGIN:VCALENDAR
VERSION:2.0
PRODID:-//Hunters Village/Tapestry BlockWatch - ECPv6.15.20//NONSGML v1.0//EN
CALSCALE:GREGORIAN
METHOD:PUBLISH
X-WR-CALNAME:Hunters Village/Tapestry BlockWatch
X-ORIGINAL-URL:https://hvtbw.org
X-WR-CALDESC:Events for Hunters Village/Tapestry BlockWatch
REFRESH-INTERVAL;VALUE=DURATION:PT1H
X-Robots-Tag:noindex
X-PUBLISHED-TTL:PT1H
BEGIN:VTIMEZONE
TZID:America/Phoenix
BEGIN:STANDARD
TZOFFSETFROM:-0700
TZOFFSETTO:-0700
TZNAME:MST
DTSTART:20230101T000000
END:STANDARD
END:VTIMEZONE
BEGIN:VEVENT
DTSTART;TZID=America/Phoenix:20251018T083000
DTEND;TZID=America/Phoenix:20251018T100000
DTSTAMP:20260423T152414
CREATED:20250112T201617Z
LAST-MODIFIED:20251003T193308Z
UID:1265-1760776200-1760781600@hvtbw.org
SUMMARY:4th BW Meeting (GAIN event)
DESCRIPTION:Annual GAIN event. This will be our 12th GAIN event for the Hunters Village-Tapestry BlockWatch! Watch for updates from BW Captain Mel for more information. \n\n	This content has been restricted to logged-in users only. Please log in to view this content.
URL:https://hvtbw.org/event/4th-bw-meeting-gain-event-2/
LOCATION:Candy & Doug Dugdahl\, [um_loggedin] 4634 E. Redfield [/um_loggedin]\, Phoenix\, AZ\, 85032\, United States
CATEGORIES:BW Meeting,GAIN
ATTACH;FMTTYPE=image/png:https://hvtbw.org/wp-content/uploads/2024/05/blockwatch-meeting.png
END:VEVENT
BEGIN:VEVENT
DTSTART;TZID=America/Phoenix:20241019T083000
DTEND;TZID=America/Phoenix:20241019T093000
DTSTAMP:20260423T152414
CREATED:20240501T163957Z
LAST-MODIFIED:20240914T174414Z
UID:1182-1729326600-1729330200@hvtbw.org
SUMMARY:4th BW Meeting (GAIN Event) - Oct 19\, 2024
DESCRIPTION:October 19\, 2024 \n8:30 AM – 9:30 AM \n 
URL:https://hvtbw.org/event/4th-bw-meeting-gain-event/
LOCATION:Candy & Doug Dugdahl\, [um_loggedin] 4634 E. Redfield [/um_loggedin]\, Phoenix\, AZ\, 85032\, United States
CATEGORIES:BW Meeting,GAIN
ORGANIZER;CN="Capt Mel Hoffman":MAILTO:puperkus@gmail.com
END:VEVENT
END:VCALENDAR