BEGIN:VCALENDAR
VERSION:2.0
PRODID:-//Hunters Village/Tapestry BlockWatch - ECPv6.15.20//NONSGML v1.0//EN
CALSCALE:GREGORIAN
METHOD:PUBLISH
X-ORIGINAL-URL:https://hvtbw.org
X-WR-CALDESC:Events for Hunters Village/Tapestry BlockWatch
REFRESH-INTERVAL;VALUE=DURATION:PT1H
X-Robots-Tag:noindex
X-PUBLISHED-TTL:PT1H
BEGIN:VTIMEZONE
TZID:America/Phoenix
BEGIN:STANDARD
TZOFFSETFROM:-0700
TZOFFSETTO:-0700
TZNAME:MST
DTSTART:20200101T000000
END:STANDARD
END:VTIMEZONE
BEGIN:VEVENT
DTSTART;TZID=America/Phoenix:20220319T083000
DTEND;TZID=America/Phoenix:20220319T091500
DTSTAMP:20260423T173138
CREATED:20220309T184304Z
LAST-MODIFIED:20220309T191805Z
UID:815-1647678600-1647681300@hvtbw.org
SUMMARY:2nd BW Meeting 2022
DESCRIPTION:2nd Hunter’s Village-Tapestry BlockWatch Meeting 2022 \nMarch 19\, 2022 \n8:30am – 9:15am MST \nMeeting will be virtual via Zoom.
URL:https://hvtbw.org/event/2nd-bw-meeting-2022/
LOCATION:Zoom
CATEGORIES:BW Meeting
END:VEVENT
BEGIN:VEVENT
DTSTART;TZID=America/Phoenix:20220122T090000
DTEND;TZID=America/Phoenix:20220122T100000
DTSTAMP:20260423T173138
CREATED:20220106T180133Z
LAST-MODIFIED:20220309T192231Z
UID:780-1642842000-1642845600@hvtbw.org
SUMMARY:1st BW Meeting 2022
DESCRIPTION:Due to continuing high rate of COVID infections\, the 1st BW Meeting of 2022 will be conducted virtually\, via Zoom. \nJanuary 22\, 2022\n9:00 AM \n 
URL:https://hvtbw.org/event/1st-bw-meeting-2022/
LOCATION:Zoom
CATEGORIES:BW Meeting
END:VEVENT
BEGIN:VEVENT
DTSTART;TZID=America/Phoenix:20211016T083000
DTEND;TZID=America/Phoenix:20211016T093000
DTSTAMP:20260423T173138
CREATED:20211002T104251Z
LAST-MODIFIED:20211002T044101Z
UID:724-1634373000-1634376600@hvtbw.org
SUMMARY:2021 HVT BW GAIN Event
DESCRIPTION:Fourth BW Meeting of 2021
URL:https://hvtbw.org/event/2021-hvt-bw-gain-event/
LOCATION:Candy & Doug Dugdahl\, [um_loggedin] 4634 E. Redfield [/um_loggedin]\, Phoenix\, AZ\, 85032\, United States
CATEGORIES:BW Meeting
ATTACH;FMTTYPE=image/jpeg:https://hvtbw.org/wp-content/uploads/2021/10/GAIN.jpg
ORGANIZER;CN="Capt Mel Hoffman":MAILTO:puperkus@gmail.com
END:VEVENT
BEGIN:VEVENT
DTSTART;TZID=America/Phoenix:20210508T100000
DTEND;TZID=America/Phoenix:20210508T110000
DTSTAMP:20260423T173138
CREATED:20210312T021413Z
LAST-MODIFIED:20210508T031144Z
UID:648-1620468000-1620471600@hvtbw.org
SUMMARY:Third Blockwatch Meeting 2021
DESCRIPTION:We will be using Zoom for the May 8 BW virtual meeting. \nYou must be logged-in in order to see the meeting link. \n\n	This content has been restricted to logged-in users only. Please log in to view this content.
URL:https://hvtbw.org/event/third-blockwatch-meeting-2021/
LOCATION:Zoom
CATEGORIES:BW Meeting
ORGANIZER;CN="Capt Mel Hoffman":MAILTO:puperkus@gmail.com
END:VEVENT
BEGIN:VEVENT
DTSTART;TZID=America/Phoenix:20210320T090000
DTEND;TZID=America/Phoenix:20210320T100000
DTSTAMP:20260423T173138
CREATED:20210312T015348Z
LAST-MODIFIED:20210312T021118Z
UID:644-1616230800-1616234400@hvtbw.org
SUMMARY:Second Blockwatch Meeting 2021
DESCRIPTION:Hunters Village-Tapestry Second HVT BW Meeting 2021\nDate and Time: 03/20/2021 9:00 AM US/Arizona\nDial-in number (US):    (978) 990-5376\nAccess code: 5828359#\nOnline meeting ID:   bobmitchell \nJoin the online meeting:           https://join.freeconferencecall.com/bobmitchell \n 
URL:https://hvtbw.org/event/second-blockwatch-meeting-2021/
LOCATION:FCC app\, Online
CATEGORIES:BW Meeting
ORGANIZER;CN="Capt Mel Hoffman":MAILTO:puperkus@gmail.com
END:VEVENT
BEGIN:VEVENT
DTSTART;TZID=America/Phoenix:20210109T090000
DTEND;TZID=America/Phoenix:20210109T100000
DTSTAMP:20260423T173138
CREATED:20210312T015132Z
LAST-MODIFIED:20210312T021230Z
UID:642-1610182800-1610186400@hvtbw.org
SUMMARY:First Blockwatch Meeting 2021
DESCRIPTION:https://join.freeconferencecall.com/bobmitchell \nDial-in number (US): (978) 990-5376 \nAccess code: 5828359#
URL:https://hvtbw.org/event/first-blockwatch-meeting-2021/
LOCATION:FCC app\, Online
CATEGORIES:BW Meeting
ORGANIZER;CN="Capt Mel Hoffman":MAILTO:puperkus@gmail.com
END:VEVENT
END:VCALENDAR