BEGIN:VCALENDAR
VERSION:2.0
PRODID:-//Hunters Village/Tapestry BlockWatch - ECPv6.15.20//NONSGML v1.0//EN
CALSCALE:GREGORIAN
METHOD:PUBLISH
X-ORIGINAL-URL:https://hvtbw.org
X-WR-CALDESC:Events for Hunters Village/Tapestry BlockWatch
REFRESH-INTERVAL;VALUE=DURATION:PT1H
X-Robots-Tag:noindex
X-PUBLISHED-TTL:PT1H
BEGIN:VTIMEZONE
TZID:America/Phoenix
BEGIN:STANDARD
TZOFFSETFROM:-0700
TZOFFSETTO:-0700
TZNAME:MST
DTSTART:20240101T000000
END:STANDARD
END:VTIMEZONE
BEGIN:VEVENT
DTSTART;TZID=America/Phoenix:20250315T090000
DTEND;TZID=America/Phoenix:20250315T100000
DTSTAMP:20260424T113740
CREATED:20250112T200458Z
LAST-MODIFIED:20250309T235402Z
UID:1260-1742029200-1742032800@hvtbw.org
SUMMARY:2nd BW Meeting 2025
DESCRIPTION:2nd BlockWatch meeting of 2025 \nGuest speaker: Ms. E. Marie Herrera-Daniels\, Council District 2 Neighborhood Services Specialist
URL:https://hvtbw.org/event/2nd-bw-meeting-2025/
LOCATION:Rose & Larry\, 4625 E. Crocus Drive\, Phoenix\, AZ\, 85032\, United States
CATEGORIES:BW Meeting
ATTACH;FMTTYPE=image/png:https://hvtbw.org/wp-content/uploads/2024/05/blockwatch-meeting.png
ORGANIZER;CN="Capt Mel Hoffman":MAILTO:puperkus@gmail.com
END:VEVENT
END:VCALENDAR