BEGIN:VCALENDAR
VERSION:2.0
PRODID:-//Hunters Village/Tapestry BlockWatch - ECPv6.15.20//NONSGML v1.0//EN
CALSCALE:GREGORIAN
METHOD:PUBLISH
X-WR-CALNAME:Hunters Village/Tapestry BlockWatch
X-ORIGINAL-URL:https://hvtbw.org
X-WR-CALDESC:Events for Hunters Village/Tapestry BlockWatch
REFRESH-INTERVAL;VALUE=DURATION:PT1H
X-Robots-Tag:noindex
X-PUBLISHED-TTL:PT1H
BEGIN:VTIMEZONE
TZID:America/Phoenix
BEGIN:STANDARD
TZOFFSETFROM:-0700
TZOFFSETTO:-0700
TZNAME:MST
DTSTART:20230101T000000
END:STANDARD
END:VTIMEZONE
BEGIN:VEVENT
DTSTART;TZID=America/Phoenix:20240316T083000
DTEND;TZID=America/Phoenix:20240316T093000
DTSTAMP:20260425T085901
CREATED:20240211T174033Z
LAST-MODIFIED:20240330T165023Z
UID:1130-1710577800-1710581400@hvtbw.org
SUMMARY:2nd BW Meeting 2024
DESCRIPTION:Saturday\, March 16\, 2024 \n9:00 am – 10:00am \nLocation: Mark & Christina Nelson  14206 N. 46th Place \nCoffee & creamers etc provided.
URL:https://hvtbw.org/event/2nd-bw-meeting-2024/
LOCATION:Mark & Christina Nelson\, 14206 N. 46th Place\, Phoenix\, AZ\, 85032\, United States
CATEGORIES:BW Meeting
END:VEVENT
END:VCALENDAR