BEGIN:VCALENDAR
VERSION:2.0
PRODID:-//Hunters Village/Tapestry BlockWatch - ECPv6.15.20//NONSGML v1.0//EN
CALSCALE:GREGORIAN
METHOD:PUBLISH
X-WR-CALNAME:Hunters Village/Tapestry BlockWatch
X-ORIGINAL-URL:https://hvtbw.org
X-WR-CALDESC:Events for Hunters Village/Tapestry BlockWatch
REFRESH-INTERVAL;VALUE=DURATION:PT1H
X-Robots-Tag:noindex
X-PUBLISHED-TTL:PT1H
BEGIN:VTIMEZONE
TZID:America/Phoenix
BEGIN:STANDARD
TZOFFSETFROM:-0700
TZOFFSETTO:-0700
TZNAME:MST
DTSTART:20220101T000000
END:STANDARD
END:VTIMEZONE
BEGIN:VEVENT
DTSTART;TZID=America/Phoenix:20231109T080000
DTEND;TZID=America/Phoenix:20231120T170000
DTSTAMP:20260425T160625
CREATED:20231115T221849Z
LAST-MODIFIED:20231115T221849Z
UID:1086-1699516800-1700499600@hvtbw.org
SUMMARY:Turkey Food Drive
DESCRIPTION:St Mary’s annual Turkey Drive. \nDrop-off at the Desert Horizon police precinct station. \n8am – 5pm every day\, Nov 9 -Nov 20
URL:https://hvtbw.org/event/turkey-food-drive/
END:VEVENT
END:VCALENDAR